BEGIN:VCALENDAR
VERSION:2.0
PRODID:-//TopClass Education - ECPv6.0.8//NONSGML v1.0//EN
CALSCALE:GREGORIAN
METHOD:PUBLISH
X-ORIGINAL-URL:https://topclasseducation.com
X-WR-CALDESC:Events for TopClass Education
REFRESH-INTERVAL;VALUE=DURATION:PT1H
X-Robots-Tag:noindex
X-PUBLISHED-TTL:PT1H
BEGIN:VTIMEZONE
TZID:America/Vancouver
BEGIN:DAYLIGHT
TZOFFSETFROM:-0800
TZOFFSETTO:-0700
TZNAME:PDT
DTSTART:20220313T100000
END:DAYLIGHT
BEGIN:STANDARD
TZOFFSETFROM:-0700
TZOFFSETTO:-0800
TZNAME:PST
DTSTART:20221106T090000
END:STANDARD
END:VTIMEZONE
BEGIN:VEVENT
DTSTART;TZID=America/Vancouver:20221012T123000
DTEND;TZID=America/Vancouver:20221012T133000
DTSTAMP:20260419T065832
CREATED:20221007T055717Z
LAST-MODIFIED:20221011T023914Z
UID:7966-1665577800-1665581400@topclasseducation.com
SUMMARY:St. John’s School In-Person Information Session (All Grades)
DESCRIPTION:(30 people max) \nWelcome to St. John’s School’s Information Session. In this 60 minute session\, there will be a tour of school campus for you to learn more about St. John’s School. There will be an opportunity for you to ask questions about the admissions process at the end of your tour.
URL:https://topclasseducation.com/event/st-johns-school-virtual-open-house-2-2/
LOCATION:St. John’s School\, 2215 West 10 Avenue (between Vine and Yew)\, Vancouver\, BC\, V6K 2J1\, Canada
CATEGORIES:Private School Open Houses
END:VEVENT
BEGIN:VEVENT
DTSTART;TZID=America/Vancouver:20221004T083000
DTEND;TZID=America/Vancouver:20221004T083000
DTSTAMP:20260419T065832
CREATED:20221007T054739Z
LAST-MODIFIED:20221007T054739Z
UID:7960-1664872200-1664872200@topclasseducation.com
SUMMARY:St. John’s School Virtual Open House
DESCRIPTION:
URL:https://topclasseducation.com/event/st-johns-school-virtual-open-house/
LOCATION:St. John’s School\, 2215 West 10 Avenue (between Vine and Yew)\, Vancouver\, BC\, V6K 2J1\, Canada
CATEGORIES:Private School Open Houses
END:VEVENT
END:VCALENDAR